BEGIN:VCALENDAR
VERSION:2.0
PRODID:-//Quiet Resorts Charitable Foundation Delaware - ECPv4.9.14.1//NONSGML v1.0//EN
CALSCALE:GREGORIAN
METHOD:PUBLISH
X-WR-CALNAME:Quiet Resorts Charitable Foundation Delaware
X-ORIGINAL-URL:https://qrcf.org
X-WR-CALDESC:Events for Quiet Resorts Charitable Foundation Delaware
BEGIN:VTIMEZONE
TZID:America/New_York
BEGIN:DAYLIGHT
TZOFFSETFROM:-0500
TZOFFSETTO:-0400
TZNAME:EDT
DTSTART:20240310T070000
END:DAYLIGHT
BEGIN:STANDARD
TZOFFSETFROM:-0400
TZOFFSETTO:-0500
TZNAME:EST
DTSTART:20241103T060000
END:STANDARD
END:VTIMEZONE
BEGIN:VEVENT
DTSTART;TZID=America/New_York:20240330T080000
DTEND;TZID=America/New_York:20240330T170000
DTSTAMP:20260421T213745
CREATED:20230918T140457Z
LAST-MODIFIED:20240327T145406Z
UID:3613-1711785600-1711818000@qrcf.org
SUMMARY:Bunny Palooza 5K and 1 Mile Walk
DESCRIPTION:12th Annual Bunny Palooza 5K brings some fast rabbits to Bethany Beach\n5K Race\, 1 Mile Walk and Kiddie Dash \nAthlete Guide – To be available here and emailed out to all registered participants within five days of the event \nBecome A Sponsor \nREGISTER NOW \n\nMORE INFO \nThe Quiet Resorts Charitable Foundation (QRCF) proudly present the 2024 Bunny Palooza 5K run or 1 Mile walk event.  There will also be a Kiddie Dash just prior to the 5K start.  Registration is not required for the Kiddie Dash.  Event shirts for the Kiddie Dash participants should be purchased at the registration site.  Please Join us in celebrating the 2024 Bunny Palooza walk/run in Bethany Beach\, DE \nRegister Here \n \nHOW IT WORKS \nHow It Works\n\nRegister – Choose your live event: 5K Run or 1 Mile Walk.  Must register by March 18\, 2024 to ensure that you get your size event shirt.  Online registration closes on March 28\, 2024 at 5PM.  Onsite registration is available during packet pick up on March 29th from 1-4PM at Mango’s.  There will be very limited registration prior to the event on the 8th.  Event shirts will be on a first come basis and there is no guarantee of desired sizes during onsite registration.\nShare – Share photos on Facebook and Instagram!\nLive race/walk – Register online before March 28\, 2024 and show up on Saturday\, March 30th at the Bethany Beach boardwalk for the run or walk.  Packet pick up will be the day before the event (MaRCH 29th) at Mangos from 1-4PM.  You must register by March 18th to guarantee your event shirt size.\n\nLIVE  5K run or One Mile Walk\n\nRun/Walk along the streets of beautiful Bethany Beach\, DE and finishing on the boardwalk overlooking the Atlantic Ocean\nThe 5K is a chip timed event (chips are located on your bibs) by Races2run Timing Systems\nThe 1 Mile walk is not timed and bibs without a timing chip will be provided.\nDogs are allowed on the 1 Mile Walk Only\, dogs and strollers should start at the rear of the participants.\n\nRACE POLICY: \n\nRain or shine event\nWalkers permitted in the 1 Mile or 5K (No walker awards)\nDog with Owners are permitted in the 1 Mile walk only.  Please start in the back of the walkers\nPlease have “doggy doo doo” bags with you and all messes must be cleaned up by the Owner\nStrollers must start at the back of the 1 mile walk\nThere are no refunds for any reason. Race registration fees (and the processing charge from RaceRoster) are not refundable. These funds are used to pay for race premiums\, permits\, supplies\, and other costs incurred before\, during\, and after the event is held. To be consistent and fair to everyone we cannot make exceptions to this policy.\n\n \nLOCATION \nLIVE 5K or 1 Mile Walk – Bethany Beach\, Delaware \nRegistration\nOnline registration closes Thursday\, March 28\, 2024 at 5PM.  Event shirts are not guaranteed for registrations after March 18\, 2024.   Onsite registration is available during packet pick up on March 29th from 1-4PM at Mango’s.  There will be very limited registration prior to the event on the 30th.  Event shirts will be on a first come basis and there is no guarantee of desired sizes during onsite registration. \nRegister Here \nNOTE: There are NO refunds for any reason as this is a charity event \nAmenities\n  \nShort-sleeve tech tee – Register by March 18\, 2024 to ensure that you get an event shirt in your requested size.  Event shirts are NOT provided for the Kiddie Dash. \nCustom “Bunny Palooza” BIBs \nPost Event at Mangos\, Bethany Beach – This is included for all participants.  Non participants can purchase a wrist band for $15.  This event may be cancelled due to any health\, weather\, or other conditions that deem appropriate.  This event closes at 11:30 sharp so that Mangos can prepare to open for business. \nPlease express your thanks to all of our sponsors who are providing award bunnies\, food and beverages for post event celebration\, discounts locally and cash donations. \n\n\n\n  \nShare Your Results\nTracking with Runkeeper app \n\nTo track with Runkeeper and automatically submit your results\, Learn How\n\n \nRACE FEES: \nNote: All fees are non-refundable or transferable for any reason.\n\n5K Registration – $30 until February  1\, 2024\, $35 from February 1st – March 28th\, then $40 during packet pick up\n1 Mile Walk Registration – $25 until February 1\, 2024\, $30 from February 1st – March 28th\, then $35 during packet pick up\nKiddie Dash – FREE (NO shirt or bibs)\nAdditional Event Shirts – $15\nPost Party wristband for non-participants – $15\n\nThere are no refunds for any reason as this is a non profit\, charity event. \n\n \nAWARDS & RESULTS: \n5K AWARDS (Live event only) \n\n1st Place overall Male and Female\n1st Place Masters Male and Female (40-49)\n1st Place Grand Masters Male and Female (50-59)\n1st Place Senior Grand Masters Male and Female (60+)\n1st\, 2nd\, 3rd Place 10 year age group Male\n1st\, 2nd\, 3rd Place 10 year age group Female\n\n5K AGE GROUPS ARE AS FOLLOWS: \n9 & under\, 10-14\, 15-19\, 20-29\, 30-39\, 40-49\, 50-59\, 60-69\, 70+ \nYou must be present to receive your award.  We do not ship awards or event shirts. \nClick Here For 5K Results \n \nBUNNY PALOOZA EVENT  SCHEDULE: \nRegister – Online Only for pre registration\nPacket Pick up:\nFriday\, March 29\, 2024 at Mangos from 1-4PM \nTime: 1pm – 4pm \n*Packet pick-up at Mangos Restaurant\, 97 Garfield Pkwy\, Bethany Beach\, DE 19930. There’s no guarantee of event shirt availability for those who late register onsite. \nSaturday\, March 30\, 2024 – Bethany Beach Bandstand Plaza \nTime: 8:00am – 8:30 am \n*Race day packet pick-up – Limited onsite registration and there’s no guarantee that event shirts will be available during this time. \nTime:8:55 am \n*Mandatory Pre-Race meeting at the starting line \nRace Time \n9:00 am- 5k start (Kiddie Dash just prior to the 5K start)\n9:10 am- 1m start \nThere are no refunds for any reason \nCOVID GUIDANCE – At this time\, following state and local guidelines\, the below precautions are suggested and NOT mandatory. This may changed depending upon any state/local guidelines:\n*Face coverings are suggested for anyone who is not fully vaccinated at all times except when you are running. \nLocation \nDowntown Bethany Beach\, DE 19930\nRace Start: Garfield at Atlantic Ave\nRace Finish: Bethany Beach Boardwalk at the Bandstand \nBenefits the Quiet Resorts Charitable Foundation – All of the proceeds go back into the local communities via four year college scholarships and grants targeted to youth\, elderly and the needy. \nSponsors \n\nCourse \nFast and flat. 5k is one loop ending on Bethany Beach Boardwalk and the one mile\nnon competitive walk starts at Garfield and Atlantic Ave and does one loop with finish on the boardwalk. \n5k Course Map\n1 Mile Course Map \nNOTICE: No dogs allowed due to insurance liability. Bibs are non-transferable. \nPlease reference our policies page for more details. \nAmenities \nShort-sleeve tech tee – Register by March 18\, 2024 to ensure that you get an event shirt in your requested size.  Event shirt are NOT guaranteed for anyone registering onsite on March 29th or 30th. \nCustom “Bunny Palooza” BIBs \nSWAG – TBA \nPost Event at Mangos\, Bethany Beach – This is included for all participants. Non participants can purchase a wrist band for $15. This event may be cancelled due to any health\, weather\, or other conditions that deem appropriate.\n– Fun\, festive course\n– Music pre and post race!\n– Post-race party with Michelob Ultra\, etc provided by NKS Distributors!\n– A perfect way to start the spring season\n– Finish oceanfront on the Bethany Beach Boardwalk \nAwards\n1st place overall male\n1st place overall female\n1st Master male & female (Masters are 40-49)\n1st Grand Master male & female (Grand Masters are 50-59) \n1st Sr Grand Master male & female ( Sr Grand Masters are 60-69) \n1st\, 2nd\, 3rd place age group male\n1st\, 2nd\, 3rd place age group female\n5k Run: 9 & under • 10 – 14 • 15 – 19 • 20 – 29 • 30 – 39 • 40 – 49 • 50 – 59 • 60 – 69 • 70+ \n\nTiming\nR2R Timing will chip time using the MYLAPS BibTag Timing System \nResults\nThey will be posted online during the race and final results will be posted once the race is complete \nhttps://results.raceroster.com/v2/en-US/results/kn5sbz4gbvmnuugq/results?subEvent= \nPhotos\nPhotos will be posted on Races2Run Facebook page following the event. \nEvent sanctioned by USA Track & Field \n \n5K Course Map \n \n1K Course Map \n \n \nParticipant's Guide \nView the 2023 Bunny Palooza Participants Guide \n \nVolunteer \nTo become a volunteer\, visit our Registration Page. \n \n\n \n\n\n\n\n\n\n\n\n
URL:https://qrcf.org/event/2024-bunny-palooza/
ATTACH;FMTTYPE=image/jpeg:https://media.qrcf.org/app/uploads/2023/09/26152642/starting-line-2.jpg
END:VEVENT
END:VCALENDAR