BEGIN:VCALENDAR
VERSION:2.0
PRODID:-//Quiet Resorts Charitable Foundation Delaware - ECPv4.9.14.1//NONSGML v1.0//EN
CALSCALE:GREGORIAN
METHOD:PUBLISH
X-WR-CALNAME:Quiet Resorts Charitable Foundation Delaware
X-ORIGINAL-URL:https://qrcf.org
X-WR-CALDESC:Events for Quiet Resorts Charitable Foundation Delaware
BEGIN:VTIMEZONE
TZID:America/New_York
BEGIN:DAYLIGHT
TZOFFSETFROM:-0500
TZOFFSETTO:-0400
TZNAME:EDT
DTSTART:20230312T070000
END:DAYLIGHT
BEGIN:STANDARD
TZOFFSETFROM:-0400
TZOFFSETTO:-0500
TZNAME:EST
DTSTART:20231105T060000
END:STANDARD
END:VTIMEZONE
BEGIN:VEVENT
DTSTART;VALUE=DATE:20230101
DTEND;VALUE=DATE:20230102
DTSTAMP:20260422T071133
CREATED:20220822T194346Z
LAST-MODIFIED:20240103T161539Z
UID:138-1672531200-1672617599@qrcf.org
SUMMARY:12th Annual Hair Of The Dog 5K Run and 1 Mile Walk
DESCRIPTION:\n\n \n \n\n\nRegister Here\nONLINE REGISTRATION CLOSES AT 5 PM ON 12/29/22\nONSITE REGISTRATION IS AVAILABLE ON 12/31/22 AT MANGO’S IN BETHANY BEACH\nTHERE WILL BE MINIMUM REGISTRATION AVAILABLE ON NEW YEAR’S DAY.\n \n\nMORE INFO \nRing in the 2023 New Year in the Quiet Resorts with a Run/Walk.  The Quiet Resorts Charitable Foundation (QRCF) proudly presents the 12th Annual Hair of the Dog 5K run/one mile walk!  The 5K and 1 Mile walk start at 10 AM.  Please join us in celebrating the 2022 Hair of the Dog 5k run/one mile walk – both LIVE and VIRTUALLY!   For the virtual option\, you can race anytime\, anywhere from November 15th to January 1st. All pre-registered (by December 2\, 2022)registrants will receive a commemorative long sleeve t-shirt with a cool refreshed design! \n \nOnline registration for these events closes Thursday\, December 29\, 2022\, at 5 PM.  Packet pick up will be on Saturday\, December 31\, 2022\, from 1 – 5 PM at Mango’s in Bethany Beach. There will be onsite registration on Friday\, however\, event shirts are not guaranteed. Register Here \n  \n \nHAIR OF THE DOG RACE HIGHLIGHTS \nHow It Works\n\nRegister – Choose your live or virtual event: 5K Run/Walk or 1 Mile Walk.\nVirtual Race – Walk or run ANY day from now until November 15th to January 1st. Use a fitness watch or smartphone app to track your distance and time. Take a picture of your record.\nShare – Submit your time and picture of your record. Submit your results. Share photos on Facebook and Instagram!\nLive Run/Walk – Register online before December 15\, 2022 and show up on New Years Day at the Bethany Beach boardwalk for the run or walk.\n\nLIVE  5K run or One Mile Walk\n\nRun/Walk along the streets of beautiful Bethany Beach\, DE and finishing on the boardwalk overlooking the Atlantic Ocean\nThe 5K is a chip timed event (chips are located on your bibs) by Races2Run Timing Systems\nDogs are allowed on the 1 Mile Walk Only\n\nRACE POLICY:\n\nRain or shine event\nWalkers permitted in the 1 Mile or 5K (No walker awards)\nDog with Owners are permitted in the 1 Mile walk only.  Please start in the back of the walkers\nPlease have “doggy doo doo” bags with you and all messes must be cleaned up by the Owner\nStrollers must start at the back of the 5K field\nThere are no refunds for any reason.\n\n\nLOCATION \nLIVE 5K or 1 Mile Walk – At the Boardwalk in downtown Bethany Beach\, Delaware\nVirtual 5K Run – Anywhere\, Anytime\n\nIn a park\nYour favorite residential route\nA high school track\nOn a treadmill\nRun one of the many trails in our beautiful state parks\n\nRun anywhere you want! Just make sure you record it.\nRun with a friend and don’t forget your dog!\nRegistration\nOnline registration closes Thursday\, December 29\, 2022 at 5 pm. Event shirts are not guaranteed for registrations after December 14\, 2022. \nRegister Here \nParticipant Guide \nNOTE: THERE ARE NO REFUNDS FOR ANY REASON \nAmenities\nDoggie goodie bags courtesy of RAWZ all natural dog food while supplies last at packet pick up. \nLong-sleeve tech tee  \n\n \nPost Event Party at Mango’s in Bethany Beach – The cost is $10 for non participants. \nShare Your Results\nTracking with Runkeeper app \n\nTo track with Runkeeper and automatically submit your results\, Learn How\n\n\nRACE AND WALK FEES: \nNote: All fees are non-refundable or transferable for any reason.\n\n5K Registration – $30 and $35 after December 1\, 2022\n1 Mile Walk Registration – $25 and $30 after December 1\, 2022\nVirtual 5K Registration – $30\nAdditional Event Shirts – $15\nPost Party wristband for non-participants – $10\n\n\n\nAWARDS & RESULTS: \n5K AWARDS (Live event only) \n\n1st Place overall Male and Female\n1st Place Masters Male and Female\n1st Place Grand Masters Male and Female (Over 60)\n1st\, 2nd\, 3rd Place age group Male\n1st\, 2nd\, 3rd Place age group Female\n\n5K AGE GROUPS ARE AS FOLLOWS: \n9 & under\, 10-14\, 15-19\, 20-29\, 30-39\, 40-49\, 50-59\, 60-69\, 70+ \nYou must be present to receive your award.  We do not ship awards. \nClick Here For 5K Results \n\nRACE AND WALK SCHEDULE: \nRegister – Online Only \nSaturday\, December 31\, 2022 \nTime: 1PM – 5PM \n*Packet pick-up at Mango’s on Garfield in Bethany Beach.  Onsite registration with no guarantee of the availability of event shirts. \nSunday\, January 1\, 2023  – Bethany Beach Bandstand Plaza \nTime: 8:30am – 9:30am  \n*Race day packet pick-up – Limited onsite registration \nTime:9:55 \n*Mandatory Pre-Race meeting at the starting line \nTime: 10 am  \n*National Anthem at the starting line \n*HOD – 5K Starts at Parkwood and Atlantic Ave \n*1 Mile Walk starts after the 5K at approximately 10:05 \nTime: 11:00 \n*HOD 5k Awards \nTime: 11:00 – Noon \nPost event celebration at Mango’s \n\n\n5K Course Map \n \n\n1K Course Map \n \n\n2023 Participants GuideHOD Participant Guide 2023 \nView Here\n \n\n \n\n\n\nThank You Sponsors! \n\n          \n            \n          \n          \n            \n          \n          \n            \n          \n          \n            \n          \n          \n            \n          \n\n\n\n\n\n\n\n\n          \n            \n          \n          \n            \n          \n          \n            \n          \n          \n            \n          \n          \n            \n          \n          \n            \n          \n          \n            \n          \n          \n            \n          \n          \n            \n          \n          \n            \n          \n          \n            \n          \n          \n            \n          \n          \n            \n          \n          \n            \n          \n          \n            \n          \n          \n            \n          \n          \n            \n          \n          \n            \n          \n          \n            \n          \n          \n            \n          \n          \n            \n          \n          \n            \n          \n\n\n\n\n
URL:https://qrcf.org/event/annual-hair-of-the-dog-event/
LOCATION:Hair of the Dog – Downtown Bethany Beach\, South Atlantic Avenue & Parkwood Street\, Bethany Beach\, DE\, 19930\, United States
END:VEVENT
END:VCALENDAR